BEGIN:VCALENDAR
VERSION:2.0
PRODID:-//Anything Acid &amp; Techno - ECPv6.15.17//NONSGML v1.0//EN
CALSCALE:GREGORIAN
METHOD:PUBLISH
X-ORIGINAL-URL:https://acidtechno.co.uk
X-WR-CALDESC:Events for Anything Acid &amp; Techno
REFRESH-INTERVAL;VALUE=DURATION:PT1H
X-Robots-Tag:noindex
X-PUBLISHED-TTL:PT1H
BEGIN:VTIMEZONE
TZID:UTC
BEGIN:STANDARD
TZOFFSETFROM:+0000
TZOFFSETTO:+0000
TZNAME:UTC
DTSTART:20230101T000000
END:STANDARD
END:VTIMEZONE
BEGIN:VTIMEZONE
TZID:UTC
BEGIN:STANDARD
TZOFFSETFROM:+0000
TZOFFSETTO:+0000
TZNAME:UTC
DTSTART:20130101T000000
END:STANDARD
END:VTIMEZONE
BEGIN:VEVENT
DTSTART;TZID=UTC:20240916T080000
DTEND;TZID=UTC:20240922T235900
DTSTAMP:20260424T203651
CREATED:20240913T232502Z
LAST-MODIFIED:20240919T224633Z
UID:91898-1726473600-1727049540@acidtechno.co.uk
SUMMARY:Earthdance Festival UK 2024
DESCRIPTION:  \nEarthdance UK 2024\nJoin us for a non stop music programme from 4pm on Friday the 20th all the way through to 6pm on Sunday the 22nd when the music finishes there’s no need to rush off we have made provision for every one to stay the night get some rest and clear the site by 11am on Monday. There are a number of other surprises\, but we don’t want to give it all away so we’ll mention a truly amazing new sound system\, beautiful art installations\, fresh décor and an awesome team of people ready to look after you.We have reasonably priced drinks and an awesome selection of food vendors to keep you energised.\nWe are holding a draw for two glamping passes for the weekend\, each general admission ticket purchased counts as 1 entry (winners announced on the 16th of August.)Give Peace a Dance! Enjoy life! Dance Forever!\nGive Peace a Dance!\nEnjoy life! Dance Forever!\n\nLineup:\n\n\n\nJoin us below in celebrating this time together with each scheduled event. We hope to see you in the chats.\n\n\nSeptember 16 at 8:00 AM AuraShine https://youtu.be/GAT35IGLxuU\n\n\nSeptember 16\, 2024 at 9:00 AM Maureen Joy https://youtu.be/qsidcA839vA\n\n\nSeptember 16 at 10:00 AM DJ DayBreaker – Phreak Recordings https://youtu.be/V5mxCabTCSc\n\n\nSeptember 16 at 2:00 PM Meaux – Geishaz https://youtu.be/KoxKSsyrO38\n\n\nSeptember 16 at 3:00 PM Lokilotus – Geishaz https://youtu.be/v7E5Ta0zI8M\n\n\nSeptember 16 at 4:00 PM Medley – Geishaz https://youtu.be/y76JJqI290I\n\n\nSeptember 16 at 5:00 PM Tosky DJ – DMT-FM https://youtu.be/6MQc8-IHn_E\n\n\nSeptember 16 at 6:00 PM D2ONE – DMT-FM https://youtu.be/tIY_QmyI-LY\n\n\nSeptember 16 at 8:00 PM Nelly Fre$h – The Bomb Skwad https://youtu.be/Tgj-XzwwdMI\n\n\nSeptember 16 at 9:00 PM BadAciD – Phreak Recordings https://youtu.be/iouHmsIAu9A\n\n\nSeptember 16 at 10:00 PM Crudawg – The Bomb Skwad https://youtu.be/UVz7VptmYZE\n\n\nSeptember 16 at 11:00 PM DJ Unohoo – Halcyon Syndicate https://youtu.be/ER_LnAJ1k48\n\n\n\nSeptember 17 at 11:00 AM Global Girls Vol 1 DnB https://youtu.be/G_mmDIOkDRI\n\n\nSeptember 17 at 1:00 PM Global Girls Vol 2 Neuro DnB https://youtu.be/8t_mVAPJH1M\n\n\nSeptember 17 at 3:00 PM Global Girls Vol 3 Funky Disco https://youtu.be/G7czTI64oX0\n\n\nSeptember 17 at 5:00 PM Ab-Lonz – Phreak Recordings https://youtu.be/KxMUfXlEmKU\n\n\nSeptember 17 at 7:00 PM CruPup https://youtu.be/b-pOI0CjKl0\n\n\nSeptember 17 at 7:31 PM Shai Town https://youtu.be/uxt56IznseY\n\n\nSeptember 17 at 8:00 PM DJ Unohoo – Halcyon Syndicate https://youtu.be/MDROf_h0ms8\n\n\nSeptember 17 at 12:01 AM Lord Electric https://youtu.be/j89EFZekEA0\n\n\n\nSeptember 18 at 11:00 AM DJ GiMiK – WGLR https://youtu.be/b_YiNQY6bEk\n\n\nSeptember 18\, 2024 12:00 PM Steven Tolbert https://youtu.be/3RxjZau-2sA\n\n\nSeptember 18 at 1:00 PM Lady Duracell – WGLR https://youtu.be/KuoXL07YMzs\n\n\nSeptember 18 at 2:00 PM Mark Wilson – WGLR https://youtu.be/2qPAZtdbB1Q\n\n\nSeptember 18 at 3:00 PM Andy Skinner – WGLR https://youtu.be/1e8QVCLEVm4\n\n\nSeptember 18 at 4:00 PM Dj K-Smoov – WGLR https://youtu.be/486xOAszsVE\n\n\nSeptember 18 at 5:00 PM Drewish – The Bomb Skwad https://youtu.be/7ldGbyn5A90\n\n\nSeptember 18\, 2024 at 6:00 PM Berto – https://youtu.be/lXMfA3xjJwQ\n\n\nSeptember 18 at 8:00 PM Heather Effie – Phreak Recordings https://youtu.be/i-poBtDQkxg\n\n\nSeptember 18\, 2024 at 9:00 PM DJ Kozee – Halcyon Syndicate https://youtu.be/trvfPMaiNB0\n\n\nSeptember 18 at 10:00 PM Karmic Waves – The Bomb Skwad https://youtu.be/LaZy5a43-lE\n\n\nSeptember 18 at 11:00 PM Mr. Bomb Skwad – The Bomb Skwad https://youtu.be/a8OpbbWKl4s\n\n\nSeptember 18 at 11:59 PM Lord Electric https://youtu.be/TYTP_4IzC9A\n\n\n\nSeptember 19 at 3:00 PM Suspect – Siren Project https://youtu.be/E14V7FNwjZI\n\n\nSeptember 19 at 8:00 PM Phiction (Visuals by Mr KittyBizkets) – Soula Flux Productions https://youtu.be/6Lf2St-o70s\n\n\nSeptember 19\, 2024 at 11:00 PM Mr KITTYBISKETZ – Soula Flux Productions https://youtu.be/GHFRaVaJcLM\n\n\n\nSeptember 20\, 2024 at 11:00 AM Graviva SCEDMLIVE https://youtu.be/PgomBGBOdc4\n\n\nSeptember 20 at 1:00 PM Keecode https://youtu.be/Je8BS36khso\n\n\nSeptember 20\, 2024 at 3:00 PM Ian E – DMT-FM https://youtu.be/gNtHldEU3T0\n\n\nSeptember 20 at 5:00 PM Spliffy B https://youtu.be/hGloviWrRoI\n\n\nSeptember 20 at 7:00 PM Gr3ywolf – The Bomb Skwad https://youtu.be/YVkScbWFXMU\n\n\nSeptember 20 at 8:00 PM CruDawg – The Bomb Skwad https://youtu.be/xOdWPap4UcI\n\n\nSeptember 20 at 8:00 PM Dj Guelz https://youtu.be/Z74_CrVWYz8\n\n\nSeptember 20 at 10:00 PM DJ Slique – Phreak Recordings https://youtu.be/IZ12rY7CoU8\n\n\nSeptember 20 at 12:00 AM FRACTAL FiLL – DMT-FM https://youtu.be/o43WzrkjQzg\n\n\n\nSeptember 21\, 2024 at 8:00 AM Original Opening Day Prayer for Peace https://youtu.be/goZxnqBIZ-o\n\n\nSeptember 21\, 2024 at 8:07 AM Talamh – Dueling Dragons https://youtu.be/in7hTQxv4do\n\n\nSeptember 21 at 10:00 AM Dallas Dee – Siren Project https://youtu.be/PceoSmtzoe0\n\n\nSeptember 21 at 11:00 PM Karina Skye – Earthdance Florida https://youtu.be/uuotTnK7w3g\n\n\nSeptember 21 at 12:00 PM Accentrik – Earthdance Florida https://youtu.be/s0kVYrMJc7M\n\n\nSeptember 21 at 1:05 PM True Self b2b Suspense – Earthdance Florida https://youtu.be/IdVx1JJpxvE\n\n\nSeptember 21 at 2:45 PM Mike Diesel – Earthdance Florida https://youtu.be/xO9J8m3TIbA\n\n\nSeptember 21 at 3:40 PM Mr. Bean – Earthdance Florida https://youtu.be/9MrcyTzrRAY\n\n\nSeptember 21 at 4:45 PM Imminent – Earthdance Florida https://youtu.be/fQJHtE23GKw\n\n\nSeptember 21 at 5:45 PM Earthdance Official Prayer for Peace\nhttps://youtu.be/8HDTcI8tk-M (The official prayer is 15 min into video\, starting at 6PM CST) (4PM PST | Midnight London)\n\n\nSeptember 21 at 6:07 PM Prayer for Peace Brazil (7min prayer in Spanish with English subtitles) https://youtu.be/XyqV23hoif8\n\n\nSeptember 21 at 6:15 PM “Calling” by Jamie Blue featuring Hoopz – Earthdance Florida https://youtu.be/v2vNjFYM-TY\n\n\nSeptember 21 at 6:20 PM Juicy Junglist – Earthdance Florida https://youtu.be/kyDmvcyd0W8\n\n\nSeptember 21 at 7:45 PM Beezie – Earthdance Florida https://youtu.be/7CfyYI2nbEg\n\n\nSeptember 21 at 8:50 PM SKNZ – Earthdance Florida https://youtu.be/lEgrx8hSk1k\n\n\nSeptember 21 at 9:45 PM James Wolfe – Earthdance Florida https://youtu.be/Ko74BA2fgTE\n\n\n\nSeptember 22 at 5:00 PM Twister https://youtu.be/O9HHEXaKwck\n\n\nSeptember 22 at 7:00 PM Salex – Siren Project https://youtu.be/Px_2NVyiqP4\n\n\nSeptember 22 at 9:00 PM The Witch Doctor – DMT-FM https://youtu.be/4riyWftypZc\n\n\nSeptember 22 at 12:01 AM StrangeEarth – SoulaFlux Productions https://youtu.be/IqkkHb7yDz0\n\n\n\n\nUnforeseen Productionshttps://www.earthdance.lifeproduction@earthdance.life\nGreat Farthingloe Farm\, Folkestone Rd\, Dover CT15 7AA\nhttps://www.earthdance.life/tickets/
URL:https://acidtechno.co.uk/event/earthdance-festival-uk-2024/
LOCATION:Youtube
CATEGORIES:Austrailian Event,Austrian event,Belgium,Belgium Event,Bristol,Colombia Event,Czech Event,Dutch Event,Festival,France Event,German Event,Irish Event,Italy Event,Japan event,Polish Event,Prague Event,Radio,Russian Event,Spain,Swedish Event,UK Event,USA Event,Venezuela event
END:VEVENT
BEGIN:VEVENT
DTSTART;TZID=UTC:20140215T210000
DTEND;TZID=UTC:20140216T060000
DTSTAMP:20260424T203651
CREATED:20140122T104549Z
LAST-MODIFIED:20140122T104549Z
UID:677-1392498000-1392530400@acidtechno.co.uk
SUMMARY:Hard loves acid :::::::::::
DESCRIPTION:█████████████████ HARDTRACK PRESENTA ████████████████ \n███████████████ ::::: HARD LOVES ACID :::::██████████████ \nPrimero que nada queremos una vez mas agradecerle al publico asistente que nos apoyo en todos nuestros eventos de 2013 de verdad mil gracias por todo el apoyo brindado la familia !!!! HARDTRACK !!!! seguirá trabajando para ustedes ofreciendo eventos de calidad y como siempre !!! APOYANDO EL TALENTO NACIONAL!!!!. \nEn este año 2014 y en conmemoración al día de el amor y la amistad venimos con este nuevo ciclo de fiestas en este nuevo año cargados de buenas energías y entusiasmo con este evento para comenzar el año como se debe.\n_______________________________________________________________ \n███████████████ ::::: HARD LOVES ACID :::::█████████████ \n_______________________________________________________________ \nEn esta edición en conmemoracion del dia de la amistad y el amor nos complacemos en presentarles\, un LINE UP del más alto nivel como tenemos acostumbrado a nuestro apreciado público\, además de un montaje profesional el cual contara con: SONIDO PROFESIONAL\, SHOW LASER\, SHOW LED\, MAQUINA DE HUMO\, VISUALES\, PERFORMANCES\, SEGURIDAD\, PROMOCION EN BEBIDAS\, HORARIO EXTENDIDO y muchas sorpresas mas. \nPara esta ocasión los deleitaremos con géneros musicales como: TECHNO – FUNKY TECHNO – HARD GROOVE – ACID TECHNO\, junto a un despliegue de fuerte detonaciones como lo es el género HARD TECHNO. \n≡≡≡≡≡≡≡≡≡≡≡≡≡≡≡≡≡≡≡≡≡≡≡≡≡≡≡≡≡≡≡≡≡≡≡≡≡≡≡≡≡≡≡≡≡≡≡≡≡≡≡≡≡≡≡≡≡≡≡≡≡≡≡≡≡≡≡≡≡≡≡≡≡≡≡≡≡≡≡≡≡≡≡≡≡≡≡≡≡≡≡≡≡≡≡≡≡≡≡≡≡≡≡≡≡≡≡≡≡≡≡≡≡≡≡≡≡≡≡≡≡≡≡≡≡≡≡≡≡≡≡≡≡≡≡≡≡≡≡≡≡≡≡≡≡≡≡≡≡≡≡≡≡≡≡≡ \nA continuación le presentamos nuestro line – up de lujo:\n_______________________________________________________________ \nAMANIT – (HARDTRACK) \nhttps://www.facebook.com/djaneamanit?fref=ts\n_______________________________________________________________ \nDÄGONET – (HARDTRACK) \nhttp://www.myspace.com/dgonet\n\n\nrisney.dagonet@facebook.com\n_______________________________________________________________ \nDIGGER – ( ITR CREW ) – CCS. \nhttps://www.facebook.com/alfredo.madrid.5623?fref=ts\n_______________________________________________________________ \nYHARE – (G-not Records & LabTheory Records) \nhttps://www.facebook.com/pages/Yhare/119381718164474\nwww.soundcloud.com/yhare\nwww.mixcloud.com/djyhare\nhttp://www.djshop.de/Download-yhare-aujourdhui-demain-/ex/s~details\,u~10061571\,p1~mp3/xe/details.html\nhttp://www.djshop.de/Download-yhare-hard-artist-collection-vol-1/ex/s~details\,u~3000087753\,p1~mp3/xe/details.html\nhttp://www.djshop.de/Download-element-comando-carapaica/ex/s~details\,u~10037628\,p1~mp3/xe/details.html\nhttp://www.junodownload.com/products/tavuk-zombie-mode-ep/2161804-02/\nhttp://www.junodownload.com/products/zkillbanger-and-friends/2059677-02/\nhttp://www.junodownload.com/products/zkillbanger-and-friends/2059677-02/\n_______________________________________________________________ \nPORTA – (HARDTRACK)\nhttps://www.facebook.com/daniel.porta.3?fref=ts\n_______________________________________________________________ \nRAK – (HARDTRACK) \nhttp://www.facebook.com/marcel.m.herrera?fref=ts\nhttps://soundcloud.com/search?q=dj+r.a.k+one\n_______________________________________________________________ \nVJ: \nPRANA- (HARDTRACK\nhttps://www.facebook.com/jesus.peinado.752?fref=ts \n║█║▌║█║▌│║▌█║▌║║█║▌║█║▌│║▌█║▌║║█║▌║█║▌│║▌█║▌║║█║▌║ \nNos complacemos en invitarlos a todos para esta gran noche\, donde compartiremos un sin fin de sorpresas así como buena música\, sonido reforzado\, iluminación profesional\, visuales y obsequios entre otras\, que solo con tu presencia y tu apoyo podrás apreciar\, no faltes \, asiste\, no dejes que te la cuenten. IMPELABLE. \n██████████████████████████████████████████████████ \nEstaremos sorteando 2 entradas\, si quieres ser unos de esos ganadores\, estos son los pasos a seguir:\n1- ) Compartir link del evento.\n2- ) Colocar el flyer como foto de perfil y/o portada.\n3- ) Invitar a todos tus contactos.\n4- ) Y hacerle seguimiento a todas nuestras publicaciones. \n██████████████████████████████████████████████████ \n█║▌║█║▌│║▌█║▌║║█║▌║█║▌│║▌█║▌║║█║▌║█║▌│║▌█║▌║║█║▌║█ \nFecha del evento: SÁBADO 15 / 02 / 2014. \nLugar: FrankGarden Bar\, Av. Urdaneta entre los Ministerios Publico y Relaciones Interiores y Justicia. \nHorario del evento: 9:00 p.m. \nCosto del evento: 150 Bsf.\nOJO: LAS PRIMERAS 50 PERSONAS RECIBIRÁN OBSEQUIO HARDTRACK. \nP.D.: de tu comportamiento depende del éxito de este evento. \n║█║▌║█║▌│║▌█║▌║║█║▌║█║▌│║▌█║▌║║█║▌║█║▌│║▌█║▌║║█║▌║█ \n* NO ARMAS – NO BOLSOS – NO DROGAS – NO GORRAS – NO MORRALES\nNO BERMUDAS – NO FRANELILLAS – NO MALA ACTITUD. \n* TE ESPERAMOS CON TU BUENA VIBRA Y TUS GANAS DE BAILAR. \n* NOTA: SE PROHÍBE LA ENTRADA A MENORES DE EDAD\, LLEVAR CÉDULA LAMINADA Y VIGENTE\, SI NO TIENES CÉDULA NO PODRÁS ENTRAR. \n║█║▌║█║▌│║▌█║▌║║█║▌║█║▌│║▌█║▌║║█║▌║█║▌│║▌█║▌║║█║▌║
URL:https://acidtechno.co.uk/event/hard-loves-acid/
LOCATION:Frankgardenbar\, Caracas\, Venezuela
CATEGORIES:Venezuela event
END:VEVENT
END:VCALENDAR